BEGIN:VCALENDAR
VERSION:2.0
PRODID:-//ChamberMaster//Event Calendar 2.0//EN
METHOD:PUBLISH
X-PUBLISHED-TTL:P3D
REFRESH-INTERVAL:P3D
CALSCALE:GREGORIAN
BEGIN:VEVENT
DTSTART:20240212T220000Z
DTEND:20240213T000000Z
X-MICROSOFT-CDO-ALLDAYEVENT:FALSE
SUMMARY:Business After Hours at Salisbury Academy Upper School
DESCRIPTION:Join us for networking at the NEW Salisbury Academy Upper School located in downtown Salisbury. Explore the campus\, enjoy food and drinks\, win door prizes\, network and have fun! Be sure to bring plenty of business cards.
X-ALT-DESC;FMTTYPE=text/html:<p><span style="color: rgb(5\, 5\, 5)\; font-family: &quot\;Segoe UI Historic&quot\;\, &quot\;Segoe UI&quot\;\, Helvetica\, Arial\, sans-serif\; font-size: 15px\; background-color: rgb(255\, 255\, 255)\;">Join us for networking at the NEW Salisbury Academy Upper School located in downtown Salisbury. Explore the campus\, enjoy food and drinks\, win door prizes\, network and have fun! Be sure to bring plenty of business cards.</span></p>\n
LOCATION:Salisbury Academy Upper School 316 Depot St. Salisbury\, NC Parking Map: https://www.salisburyacademy.org/editoruploads/files/DSI-Parking-Map(1).pdf
UID:e.610.2549
SEQUENCE:3
DTSTAMP:20260422T232155Z
URL:https://business.rowanchamber.com/events/details/business-after-hours-at-salisbury-academy-upper-school-2549
END:VEVENT

END:VCALENDAR
